BEGIN:VCALENDAR
VERSION:2.0
PRODID:-//Bad Häring/Tirol - ECPv6.15.20//NONSGML v1.0//EN
CALSCALE:GREGORIAN
METHOD:PUBLISH
X-ORIGINAL-URL:https://badhaering.at
X-WR-CALDESC:Veranstaltungen für Bad Häring/Tirol
REFRESH-INTERVAL;VALUE=DURATION:PT1H
X-Robots-Tag:noindex
X-PUBLISHED-TTL:PT1H
BEGIN:VTIMEZONE
TZID:Europe/Vienna
BEGIN:DAYLIGHT
TZOFFSETFROM:+0100
TZOFFSETTO:+0200
TZNAME:CEST
DTSTART:20240331T010000
END:DAYLIGHT
BEGIN:STANDARD
TZOFFSETFROM:+0200
TZOFFSETTO:+0100
TZNAME:CET
DTSTART:20241027T010000
END:STANDARD
BEGIN:DAYLIGHT
TZOFFSETFROM:+0100
TZOFFSETTO:+0200
TZNAME:CEST
DTSTART:20250330T010000
END:DAYLIGHT
BEGIN:STANDARD
TZOFFSETFROM:+0200
TZOFFSETTO:+0100
TZNAME:CET
DTSTART:20251026T010000
END:STANDARD
BEGIN:DAYLIGHT
TZOFFSETFROM:+0100
TZOFFSETTO:+0200
TZNAME:CEST
DTSTART:20260329T010000
END:DAYLIGHT
BEGIN:STANDARD
TZOFFSETFROM:+0200
TZOFFSETTO:+0100
TZNAME:CET
DTSTART:20261025T010000
END:STANDARD
END:VTIMEZONE
BEGIN:VEVENT
DTSTART;TZID=Europe/Vienna:20251026T133000
DTEND;TZID=Europe/Vienna:20251026T133000
DTSTAMP:20260420T150304
CREATED:20250321T224722Z
LAST-MODIFIED:20251014T105351Z
UID:10000071-1761485400-1761485400@badhaering.at
SUMMARY:Jahreshauptübung FF Bad Häring
DESCRIPTION:Übungsobjekt: Angererhof in der Thiergartlstraße
URL:https://badhaering.at/calendar/jahreshauptuebung/
CATEGORIES:Veranstaltungen
ORGANIZER;CN="Freiwillige Feuerwehr Bad H%C3%A4ring - Roland Mathes":MAILTO:badhaering@feuerwehr.tirol
END:VEVENT
END:VCALENDAR